BEGIN:VCALENDAR
VERSION:2.0
PRODID:-//Marketing Club Region Stuttgart-Heilbronn - ECPv4.5.7//NONSGML v1.0//EN
CALSCALE:GREGORIAN
METHOD:PUBLISH
X-ORIGINAL-URL:https://www.mc-stuttgart-heilbronn.de
X-WR-CALDESC:Events for Marketing Club Region Stuttgart-Heilbronn
BEGIN:VEVENT
DTSTART;TZID=UTC+2:20190708T190000
DTEND;TZID=UTC+2:20190708T190000
DTSTAMP:20260420T093914
CREATED:20181221T073944Z
LAST-MODIFIED:20190204T135447Z
UID:3153-1562612400-1562612400@www.mc-stuttgart-heilbronn.de
SUMMARY:Von der Spüle zum Herz der Küche
URL:https://www.mc-stuttgart-heilbronn.de/event/von-der-spuele-zum-herz-der-kueche/
LOCATION:Flehinger Str. 59\, Oberderdingen\, 75038
ATTACH;FMTTYPE=image/jpeg:https://www.mc-stuttgart-heilbronn.de/wp-content/uploads/2018/12/Marketing-Club-Region-Stuttgart-Heilbronn-Header-Veranstaltung-Von-der-Spuele-zum-Herz-der-Kueche.jpg
END:VEVENT
END:VCALENDAR